BEGIN:VCALENDAR
VERSION:2.0
PRODID:-//Jamie Butler. The Everyday Medium - ECPv6.15.18//NONSGML v1.0//EN
CALSCALE:GREGORIAN
METHOD:PUBLISH
X-ORIGINAL-URL:https://jamiebutlermedium.com
X-WR-CALDESC:Events for Jamie Butler. The Everyday Medium
REFRESH-INTERVAL;VALUE=DURATION:PT1H
X-Robots-Tag:noindex
X-PUBLISHED-TTL:PT1H
BEGIN:VTIMEZONE
TZID:America/New_York
BEGIN:DAYLIGHT
TZOFFSETFROM:-0500
TZOFFSETTO:-0400
TZNAME:EDT
DTSTART:20230312T070000
END:DAYLIGHT
BEGIN:STANDARD
TZOFFSETFROM:-0400
TZOFFSETTO:-0500
TZNAME:EST
DTSTART:20231105T060000
END:STANDARD
BEGIN:DAYLIGHT
TZOFFSETFROM:-0500
TZOFFSETTO:-0400
TZNAME:EDT
DTSTART:20240310T070000
END:DAYLIGHT
BEGIN:STANDARD
TZOFFSETFROM:-0400
TZOFFSETTO:-0500
TZNAME:EST
DTSTART:20241103T060000
END:STANDARD
BEGIN:DAYLIGHT
TZOFFSETFROM:-0500
TZOFFSETTO:-0400
TZNAME:EDT
DTSTART:20250309T070000
END:DAYLIGHT
BEGIN:STANDARD
TZOFFSETFROM:-0400
TZOFFSETTO:-0500
TZNAME:EST
DTSTART:20251102T060000
END:STANDARD
END:VTIMEZONE
BEGIN:VEVENT
DTSTART;TZID=America/New_York:20240613T190000
DTEND;TZID=America/New_York:20240613T210000
DTSTAMP:20260421T044509
CREATED:20240507T193420Z
LAST-MODIFIED:20250117T163748Z
UID:10040326-1718305200-1718312400@jamiebutlermedium.com
SUMMARY:Ascension: A Channeling with Grace and Maitland in Atlanta!
DESCRIPTION:Join Jamie and her spirit team on Thursday\, June 13 from 7-9 PM as she offers an intimate\, group channeling at Full Circle Studio in Atlanta\, Georgia! The topic of the evening will be Ascension. \nFor those who are new to trance channeling\, Jamie will allow spirit guides to speak directly through her to you. During the first hour\, playful spirit guide Maitland will teach lessons and deliver messages\, and during the second hour\, spirit counselor\, Grace will answer your questions. We ask that each person ask only one question. We cannot guarantee your question will be answered and we will get through as many as possible in the time allotted. \nDoors will open at 6:30 PM and will promptly close at 7:00 PM in order to begin on time. Jamie will be on hand to meet and greet prior to the channeling\, but please understand that afterward\, she will be low-key and ready to call it a night. The fee for the evening is $50. Due to limited seating (40) please register in advance by purchasing your spot early. This event will sell out. Tickets must be purchased in advance and sales are online only. We will not accept payments of any kind at the door. All ticket sales are final. \nTo honor and respect the privacy of others and to maintain a safe space for all\, no recording is allowed at this event. \nDirections to Full Circle Studio: \n\n\n\n655 Highland Ave NE Studio #8\nAtlanta\, GA 30312 \n| PARKING :: Street parking is available on Highland Ave (in front of Highland Bakery or in front of the businesses/apartments on Highland) – OR – Sampson Street (the road beside Highland Bakery). There is additional free parking in the parking lot of the office building on Corley Street (on the other side of our building.) \n\n\n\n| ENTRANCE :: We are in the same building at Highland Bakery and Yonder Yoga. Go to the yellow awning on our building on Sampson Street. The entrance to the building is under the Yonder Yoga Sign. Code to access the building will be listed on your paid ticket as well as emailed to you the day of the channeling. Please enter through the door to the building\, walk up the stairs\, and Full Circle Studio will be on your left in Studio #8. Please come in through the studio door\, and there is a waiting room and bathroom located inside the studio. \nFull Circle is a NO SHOES studio. Please take shoes off upon entering. \n\n\n\n\n\n\nPlease do not call the studio. Feel free to email Colleen\, Jamie’s assistant\, before the event with any questions Colleen@jamiebutlermedium.com
URL:https://jamiebutlermedium.com/event/ascension-a-channeling-with-grace-and-maitland-in-atlanta/
LOCATION:The Full Circle Studio\, 24 Waddell Street\, NE\, Atlanta\, 30344\, United States
CATEGORIES:Channelings,Classes
END:VEVENT
END:VCALENDAR